Workbook

Sheet Service Metrics (items 1-6)
A1: NORFOLK SOUTHERN RAILWAY COMPANY
A2: EP 724 - US RAIL SERVICE ISSUES - DATA COLLECTION
A4: Railroad: | B4: Year: 2014 | C4: Reporting Week: | D4: Date Week Began: | E4: 41923
D5: Date Week Ended: | E5: 41929
A6: 1. System-Average Train Speed by Train Type for the Reporting Week (MPH)
A7: Intermodal | B7: 22.93
A8: Grain unit | B8: 17.64
A9: Coal unit | B9: 15.58
A10: Automotive unit | B10: 19.67
A11: Crude oil unit | B11: 14.76
A12: Ethanol unit | B12: 18.29
A13: Manifest | B13: 18.07
A14: All Other | B14: 14.14
A16: 2. Weekly Average Terminal Dwell Time Measured in Hours Excluding Cars on Run Through Trains
A18: System Average | B18: 29.1
A20: 2. Weekly Average Terminal Dwell Time Measured in Hours for 10 Largest Terminals In Terms Of Railcar Capacity
A21: ALLENTOWN | B21: 29.6
A22: BELLEVUE | B22: 53.0
A23: BIRMINGHAM | B23: 31.9
A24: CHATTANOOGA | B24: 37.3
A25: CONWAY | B25: 63.6
A26: DECATUR | B26: 27.5
A27: ELKHART | B27: 42.1
A28: KNOXVILLE | B28: 34.3
A29: LINWOOD | B29: 24.6
A30: MACON | B30: 33.0
A32: 3. Total Cars On Line by Car Type for the Reporting Week
A33: Box | B33: 15,931
A34: Covered hopper | B34: 49,118
A35: Gondola | B35: 18,039
A36: Intermodal | B36: 9,679
A37: Multilevel (automotive) | B37: 10,052
A38: Open hopper | B38: 41,406
A39: Tank | B39: 38,047
A40: Other | B40: 10,542
A41: Total | B41: 192,814
A43: 4. Weekly Average Dwell Time at Origin for Unit Train Shipments Measured in Hours
A44: Grain | B44: 72.47
A45: Coal | B45: 10.11
A46: Automotive | B46: n/a
...

Sheet Grain Metrics 1 (item 7)
A1: NORFOLK SOUTHERN RAILWAY COMPANY
A2: EP 724 - US RAIL SERVICE ISSUES - DATA COLLECTION
A4: ='Service Metrics (items 1-6)'!A4 -> Railroad: | B4: Year: 2014 | C4: ='Service Metrics (items 1-6)'!C4 -> Reporting Week: | D4: Date Week Began: | E4: 41923
D5: Date Week Ended: | E5: 41929
A7: 7. Weekly total grain cars loaded and billed, reported by State, aggregated for the following Standard Transportation Commodity Codes (STCCs): 01131 (barley), 01132 (corn), 01133 (oats), 01135 (rye), 01136 (sorghum grains), 01137 (wheat), 01139 (grain, not elsewhere classified), 01144 (soybeans), 01341 (beans, dry), 01342 (peas, dry), and 01343 (cowpeas, lentils, or lupines). “Total grain cars loaded and billed” includes cars in shuttle service; dedicated train service; reservation, lottery, open and other ordering systems; and, private cars. Additionally, please separately report the total cars loaded and billed in shuttle service (or dedicated train service) versus total cars loaded and billed in all other ordering systems, including private cars. Instruction: Please enter "0" if no data is being reported for a field.
A9: State | B9: Total Grain Cars Loaded and Billed For All Ordering Systems | C9: Total Grain Cars Loaded and Billed For Shuttle / Dedicated Train Service Ordering Systems | D9: Total Grain Cars Loaded and Billed For Ordering Systems Other Than Shuttle / Dedicated Train Service
A10: AL | B10: 12 | C10: n/a | D10: n/a
A11: AR | B11: 0 | C11: n/a | D11: n/a
A12: AZ | B12: 0 | C12: n/a | D12: n/a
A13: CA | B13: 0 | C13: n/a | D13: n/a
A14: CO | B14: 0 | C14: n/a | D14: n/a
A15: CT | B15: 0 | C15: n/a | D15: n/a
A16: DE | B16: 1 | C16: n/a | D16: n/a
A17: FL | B17: 0 | C17: n/a | D17: n/a
A18: GA | B18: 11 | C18: n/a | D18: n/a
A19: ID | B19: 0 | C19: n/a | D19: n/a
A20: IL | B20: 0 | C20: n/a | D20: n/a
A21: IN | B21: 1204 | C21: n/a | D21: n/a
... A57: WY | B57: 0 | C57: n/a | D57: n/a
A58: Total | B58: =SUM(B10:B57) -> 3251 | C58: =SUM(C10:C57) -> 0 | D58: =SUM(D10:D57) -> 0

Sheet Grain Metrics 2 (item 8)
A1: NORFOLK SOUTHERN RAILWAY COMPANY
A2: EP 724 - US RAIL SERVICE ISSUES - DATA COLLECTION
A4: ='Service Metrics (items 1-6)'!A4 -> Railroad: | B4: Year: 2014 | C4: ='Service Metrics (items 1-6)'!C4 -> Reporting Week: | D4: Date Week Began: | E4: 41926
D5: Date Week Ended: | E5: 41932
A7: 8. Alternative NS Grain Data (See Description of Methodology)
A8: NS’s calculation of the number of cars needed to meet agriculture grain shipment demand (includes loaded and empty component) | F8: 5329
A9: Cars available for agriculture shipments (includes loaded and empty component) | F9: 4384
A10: Cars surplus/(deficit) plan | F10: -945
A11: Cars loaded | F11: 1676
A12: NS’s calculation of the number of cars needed to meet agriculture grain shipment demand the previous week (includes loaded and empty component) | F12: 5304
A13: Cars available for agriculture shipments during previous week (includes loaded and empty component) | F13: 4338
A14: Cars surplus/(deficit) plan during previous week | F14: -966
A15: Cars loaded | F15: 1597
A16: Difference in cars calculated for assignment to agricultural grain shipments from previous week | F16: 46

Sheet Grain & Coal Plans (items 9-10)
A1: NORFOLK SOUTHERN RAILWAY COMPANY
A2: EP 724 - US RAIL SERVICE ISSUES - DATA COLLECTION
A4: ='Service Metrics (items 1-6)'!A4 -> Railroad: | B4: Year: 2014 | C4: ='Service Metrics (items 1-6)'!C4 -> Reporting Week: | D4: Date Week Began: | E4: 41923
D5: Date Week Ended: | E5: 41929
A7: 10. Average Daily Coal Unit Train Loadings vs. Plan for the Reporting Week By Coal Production Region
A8: Region | B8: Loadings Plan | C8: Loadings Average
A9: Illinois Basin | B9: 6.14 | C9: 5.29
A10: Northern Appalachia | B10: 9.43 | C10: 8.43
A11: Central Appalachia | B11: 9.86 | C11: 8
A12: Southern Appalachia | B12: 0.29 | C12: 0.29
