Workbook

Sheet Service Metrics (items 1-6)
A1: EP 724(3) - US RAIL SERVICE ISSUES - DATA COLLECTION
A3: Railroad: | B3: Year: 2014 | C3: Reporting Week: | D3: Date Week Began: | E3: 41938
D4: Date Week Ended: | E4: =E3+6 -> 41944
A5: 1. System-Average Train Speed by Train Type for the Reporting Week (MPH)
A6: Intermodal | B6: 23.403611
A7: Grain unit | B7: 19.637881
A8: Coal unit | B8: 23.731253
A9: Automotive unit | B9: 19.042793
A10: Crude oil unit | B10: 21.212653
A11: Ethanol unit | B11: 18.073036
A12: Manifest | B12: 19.234736
A13: All Other | B13: 16.378926
A15: 2. Weekly Average Terminal Dwell Time Measured in Hours Excluding Cars on Run Through Trains
A17: System Average | B17: 19.438685
A19: 2. Weekly Average Terminal Dwell Time Measured in Hours for 10 Largest Terminals In Terms Of Railcar Capacity
A20: ALBANY | B20: 6.4817382
A21: BENSENVILLE | B21: 31.516335
A22: BINGHAMTON | B22: 21.851598
A23: GLENWOOD | B23: 20.926358
A24: HARVEY | B24: 8.6988632
A25: LA CROSSE | B25: 19.546493
A26: MASON CITY | B26: 12.827439
A27: MILWAUKEE | B27: 20.184882
A28: NAHANT | B28: 21.461397
A29: ST PAUL | B29: 21.643174
A31: 3. Total Cars On Line by Car Type for the Reporting Week
A32: Box | B32: 1394
A33: Covered hopper | B33: 15966
A34: Gondola | B34: 1943
A35: Intermodal | B35: 778
A36: Multilevel (automotive) | B36: 912
A37: Open hopper | B37: 753
A38: Tank | B38: 9826
A39: Other | B39: 1110
A40: Total | B40: =SUM(B32:B39) -> 32682
A42: 4. Weekly Average Dwell Time at Origin for Unit Train Shipments Measured in Hours
A43: Grain | B43: 39.6
A44: Coal | B44: 27
A45: Automotive | B45: 0
A46: Crude Oil | B46: 7.3
A47: Ethanol | B47: 19.9
A48: All Other Unit Trains | B48: 8.3
A50: 5. Weekly Total Number of Trains Held Short of Destination or Scheduled Interchange for Longer than 6 Hours by Train Type and Cause
A51: Train Type | B51: Cause
B52: Crew | C52: Locomotive power | D52: Track maintenance | E52: Mechanical Issue | F52: Other | H52: Total
F53: Number | G53: Briefly Explain Cause
A54: Intermodal | B54: 0 | C54: 0 | D54: 3 | E54: 0 | F54: 6 | G54: Various, Customer, Foreign, Operations, Outages. | H54: 9
A55: Grain unit | B55: 0 | C55: 0 | D55: 0 | E55: 0 | F55: 9 | G55: Various, Customer, Foreign, Operations, Outages. | H55: 9
A56: Coal unit | B56: 1 | C56: 0 | D56: 0 | E56: 0 | F56: 3 | G56: Various, Customer, Foreign, Operations, Outages. | H56: 4
A57: Automotive unit | B57: 0 | C57: 0 | D57: 0 | E57: 0 | F57: 0 | H57: 0
A58: Crude oil unit | B58: 1 | C58: 0 | D58: 0 | E58: 0 | F58: 14 | G58: Various, Customer, Foreign, Operations, Outages. | H58: 15
A59: Ethanol unit | B59: 1 | C59: 0 | D59: 0 | E59: 0 | F59: 8 | G59: Various, Customer, Foreign, Operations, Outages. | H59: 9
A60: Other unit | B60: 0 | C60: 1 | D60: 1 | E60: 0 | F60: 3 | G60: Various, Customer, Foreign, Operations, Outages. | H60: 5
A61: All other trains | B61: 4 | C61: 0 | D61: 3 | E61: 1 | F61: 67 | G61: Various, Customer, Foreign, Operations, Outages. | H61: 75
A62: Total | B62: 7 | C62: 1 | D62: 7 | E62: 1 | F62: 110 | H62: 126
A64: 6. Weekly Total Number of Loaded and Empty Cars in Revenue Service That Have Not Moved In:
B65: Greater Than 120 Hours | D65: Greater Than 48 but Less than or Equal to 120 Hours
B66: Loaded | C66: Empty | D66: Loaded | E66: Empty
A67: Intermodal | B67: 23 | C67: 2 | D67: 29 | E67: 3
A68: Grain | B68: 134 | C68: 39 | D68: 506 | E68: 83
A69: Coal | B69: 7 | C69: 1 | D69: 2 | E69: 30
A70: Crude Oil | B70: 3 | C70: 194 | D70: 26 | E70: 65
A71: Ethanol
A72: Automotive | B72: 80 | C72: - | D72: 66 | E72: -
A73: All Other | B73: 987 | C73: 449 | D73: 989 | E73: 1105

Sheet Grain Metrics 1 (item 7)
A1: EP 724(3) - US RAIL SERVICE ISSUES - DATA COLLECTION
A3: ='Service Metrics (items 1-6)'!A3 -> Railroad: | B3: Year: 2014 | C3: ='Service Metrics (items 1-6)'!C3 -> Reporting Week: | D3: Date Week Began: | E3: ='Service Metrics (items 1-6)'!E3 -> 41938
D4: Date Week Ended: | E4: ='Service Metrics (items 1-6)'!E4 -> 41944
A6: 7. Weekly total grain cars loaded and billed, reported by State, aggregated for the following Standard Transportation Commodity Codes (STCCs): 01131 (barley), 01132 (corn), 01133 (oats), 01135 (rye), 01136 (sorghum grains), 01137 (wheat), 01139 (grain, not elsewhere classified), 01144 (soybeans), 01341 (beans, dry), 01342 (peas, dry), and 01343 (cowpeas, lentils, or lupines). “Total grain cars loaded and billed” includes cars in shuttle service; dedicated train service; reservation, lottery, open and other ordering systems; and, private cars. Additionally, please separately report the total cars loaded and billed in shuttle service (or dedicated train service) versus total cars loaded and billed in all other ordering systems, including private cars. Instruction: Please enter "0" if no data is being reported for a field.
A8: State | B8: Total Grain Cars Loaded and Billed For All Ordering Systems | C8: Total Grain Cars Loaded and Billed For Shuttle / Dedicated Train Service Ordering Systems | D8: Total Grain Cars Loaded and Billed For Ordering Systems Other Than Shuttle / Dedicated Train Service
A9: AL | B9: 0 | C9: 0 | D9: =B9-C9 -> 0
A10: AZ | B10: 0 | C10: 0 | D10: =B10-C10 -> 0
A11: AR | B11: 0 | C11: 0 | D11: =B11-C11 -> 0
A12: CA | B12: 0 | C12: 0 | D12: =B12-C12 -> 0
A13: CO | B13: 0 | C13: 0 | D13: =B13-C13 -> 0
A14: CT | B14: 0 | C14: 0 | D14: =B14-C14 -> 0
A15: DE | B15: 0 | C15: 0 | D15: =B15-C15 -> 0
A16: FL | B16: 0 | C16: 0 | D16: =B16-C16 -> 0
A17: GA | B17: 0 | C17: 0 | D17: =B17-C17 -> 0
A18: ID | B18: 2 | C18: 0 | D18: =B18-C18 -> 2
A19: IL | B19: 7 | C19: 0 | D19: =B19-C19 -> 7
A20: IN | B20: 0 | C20: 0 | D20: =B20-C20 -> 0
... A56: WY | B56: 0 | C56: 0 | D56: =B56-C56 -> 0
A57: Total | B57: =SUM(B9:B56) -> 2017 | C57: =SUM(C9:C56) -> 948 | D57: =SUM(D9:D56) -> 1069

Sheet Grain Metrics 2 (item 8)
A1: EP 724(3) - US RAIL SERVICE ISSUES - DATA COLLECTION
A3: ='Service Metrics (items 1-6)'!A3 -> Railroad: | B3: Year: 2014 | C3: ='Service Metrics (items 1-6)'!C3 -> Reporting Week: | D3: Date Week Began: | E3: 41939
D4: Date Week Ended: | E4: =E3+6 -> 41945
A6: 8. For the aggregated STCCs in item 7, report by State the following: a. running total number of outstanding car orders (a car order equals one car); b. average number of days late for all outstanding car orders; c. total number of new car orders received during the past week; d. total number of car orders filled during the past week; and e. number of orders cancelled, respectively, by shipper and railroad during the past week.
A8: State | B8: a. Running Total Number of Outstanding Car Orders | C8: b. Average Number of Days Late For All Outstanding Grain Car Orders | D8: c. Number of New Car Orders | E8: d. Number of Car Orders Filled | F8: e.1. Number of Orders Canceled By Shipper | G8: e.2. Number of Orders Canceled By Railroad
A9: AL
A10: AZ
A11: AR
A12: CA
A13: CO
A14: CT
A15: DE
A16: FL
A17: GA
A18: ID
A19: IL
A20: IN
A21: IA | B21: 10 | C21: 0.00 weeks | D21: 45 | E21: 45 | F21: 15
A22: KS
A23: KY
A24: LA
A25: ME
A26: MD
A27: MA
A28: MI
A29: MN | B29: 210 | C29: 1.07 weeks | D29: 237 | E29: 277 | F29: 25
A30: MS
A31: MO | B31: 10 | C31: 0.00 weeks | D31: 60 | E31: 53
A32: MT | B32: 200 | C32: 1.25 weeks | D32: 50 | E32: 101
A33: NE
A34: NV
A35: NH
A36: NJ
A37: NM
A38: NY
A39: NC
A40: ND | B40: 2324 | C40: 2.42 weeks | D40: 756 | E40: 894 | F40: 677
A41: OH
A42: OK
A43: OR
A44: PA
A45: RI
A46: SC
A47: SD | D47: 200 | E47: 478*
A48: TN
A49: TX
A50: UT
A51: VT
A52: VA
A53: WA
A54: WV
A55: WI | D55: 25 | E55: 50
A56: WY
A57: TOTAL | B57: =SUM(B9:B56) -> 2754 | C57: 2.22 weeks | D57: =SUM(D9:D56) -> 1373 | E57: =SUM(E9:E56) -> 1420 | F57: =SUM(F9:F56) -> 717 | G57: =SUM(G9:G56) -> 0
E59: *SD includes 378 cars for RCPE, 100 for dedicated train program

Sheet Grain & Coal Plans (items 9-10)
A1: EP 724(3) - US RAIL SERVICE ISSUES - DATA COLLECTION
A3: ='Service Metrics (items 1-6)'!A3 -> Railroad: | B3: Year: 2014 | C3: ='Service Metrics (items 1-6)'!C3 -> Reporting Week: | D3: Date Week Began: | E3: ='Service Metrics (items 1-6)'!E3 -> 41938
D4: Date Week Ended: | E4: ='Service Metrics (items 1-6)'!E4 -> 41944
A6: 9. Plan vs. Performance For Grain Shuttle (Or Dedicated Grain Train) Round Trips, By Region, Updated To Reflect The Previous Four Weeks
A7: Region (Please Specify Destination Region) | B7: Trip Plan | C7: Trip Performance
A8: Pacific North West | B8: 2.2 | C8: 1.9932285
A9: Other | B9: 2.2 | C9: 2.1695197
A20: 10. Average Daily Coal Unit Train Loadings vs. Plan for the Reporting Week By Coal Production Region
A21: Region | B21: Loadings Plan | C21: Loadings Average
A22: Powder River Basin
A23: Illinois Basin
A24: Uinta Basin
A25: Northern Appalachia
A26: Central Appalachia
A27: Southern Appalachia

Sheet Chicago Metrics (1-2)
A1: EP 724(3) - US RAIL SERVICE ISSUES - DATA COLLECTION
A3: ='Service Metrics (items 1-6)'!A3 -> Railroad: | B3: Year: 2014 | C3: ='Service Metrics (items 1-6)'!C3 -> Reporting Week: | D3: Date Week Began: | E3: ='Service Metrics (items 1-6)'!E3 -> 41938
D4: Date Week Ended: | E4: ='Service Metrics (items 1-6)'!E4 -> 41944
A6: Chicago Gateway
A8: 1. Average Daily Car Counts By Terminal Yard For The Reporting Week
A9: Barr
A10: Bensenville | B10: 1928
A11: Blue Island
A12: Calumet | B12: 30
A13: Cicero
A14: Clearing | B14: 47
A15: Corwith
A16: Gibson
A17: Kirk
A18: Markham
A19: Proviso | B19: 27
A20: Other Yards *See EP 724 (Sub-No.3)*
A22: 2. Average Daily Number Of Trains Held For Delivery To Chicago Sorted by Receiving Carrier For The Reporting Week
A23: BNSF | B23: 0
A24: CN | B24: 0
A25: CP | B25: 0
A26: CSX | B26: 1
A27: NS | B27: 0.28571429
A28: UP | B28: 0
A30: Status of the Chicago Terminal
A31: As of this writing, the Chicago Terminal is at Alert Level 0. Our railroad is in normal operating condition at Chicago.

Sheet RCP&E
A1: APPENDIX 1: RCP&E Reporting
A3: ="Number of Grain Cars Requested by and Furnished to RCP&E"&" from "&TEXT('Grain Metrics 2 (item 8)'!E3,"Mmm d, YYYY")&" to "&TEXT('Grain Metrics 2 (item 8)'!E4,"Mmm d, YYYY") -> Number of Grain Cars Requested by and Furnished to RCP&E from Oct 27, 2014 to Nov 2, 2014
C4: Number of New Car Orders | F4: Number of Car Orders Filled
A5: RCP&E | C5: ='Grain Metrics 2 (item 8)'!D47 -> 200 | F5: 378
A7: Number of Locomotives Moving to / from RCP&E
B8: LOCOMOTIVES DELIVERED BY CP TO RCPE | E8: LOCOMOTIVES DELIVERED BY RCPE TO CP
A9: Date | B9: CP UNITS | C9: RCPE UNITS | D9: TOTAL | E9: CP UNITS | F9: RCPE UNITS | G9: TOTAL
A10: 41929 | B10: 6 | D10: 6 | E10: 9 | F10: 4 | G10: 13
A11: =A10+1 -> 41930 | B11: 7 | C11: 3 | D11: 10 | E11: 6 | G11: 6
A12: =A11+1 -> 41931 | B12: 1 | C12: 5 | D12: 6 | E12: 18 | G12: 18
A13: =A12+1 -> 41932 | B13: 8 | C13: 4 | D13: 12 | E13: 7 | F13: 6 | G13: 13
A14: =A13+1 -> 41933 | F14: 4 | G14: 4
A15: =A14+1 -> 41934 | B15: 4 | C15: 2 | D15: 6
A16: =A15+1 -> 41935 | B16: 3 | D16: 3 | E16: 8 | G16: 8
D17: =SUM(D10:D16) -> 43 | G17: =SUM(G10:G16) -> 62
A18: =A16+1 -> 41936 | E18: 4 | F18: 6 | G18: 10
A19: =A18+1 -> 41937 | B19: 2 | C19: 4 | D19: 6 | E19: 1 | F19: 5 | G19: 6
A20: =A19+1 -> 41938 | B20: 3 | C20: 5 | D20: 8 | F20: 2 | G20: 2
A21: =A20+1 -> 41939 | B21: 5 | C21: 1 | D21: 6 | F21: 3 | G21: 3
A22: =A21+1 -> 41940 | B22: 4 | C22: 1 | D22: 5 | E22: 7 | G22: 7
A23: =A22+1 -> 41941 | F23: 3 | G23: 3
A24: =A23+1 -> 41942 | B24: 7 | C24: 5 | D24: 12 | E24: 8 | F24: 3 | G24: 11
D25: 37 | G25: 44
A26: =A24+1 -> 41943 | B26: 4 | C26: 4 | D26: 8 | E26: 4 | F26: 3 | G26: 7
A27: =A26+1 -> 41944 | E27: 3 | F27: 1 | G27: 4
A28: =A27+1 -> 41945 | B28: 6 | C28: 3 | D28: 9 | F28: 7 | G28: 7
A29: =A28+1 -> 41946 | C29: 3 | D29: 3 | E29: 5 | F29: 3 | G29: 8
A30: =A29+1 -> 41947 | E30: 5 | F30: 2 | G30: 7

Sheet RCPE Chart Data
B1: SD40 Equivalents | D1: Raw units
A2: Date | B2: RCPE units on CP | C2: CP units on RCPE | D2: RCPE units on CP | E2: CP units on RCPE | F2: ="NOTE: PAST 28 DAYS AVERAGE: "&TEXT(AVERAGE(F72:F99),"+#,##0.00;-#,##0.00;")&" SD40 EQUIVALENT UNITS" -> NOTE: PAST 28 DAYS AVERAGE: +4.82 SD40 EQUIVALENT UNITS
A3: 41851 | B3: 2 | C3: 6.92 | D3: 2 | E3: 6
A4: 41852 | B4: 6 | C4: 5 | D4: 6 | E4: 5
A5: 41853 | B5: 12 | C5: 9.6666667 | D5: 12 | E5: 9
A6: 41854 | B6: 15 | C6: 5.2 | D6: 15 | E6: 10
A7: 41855 | B7: 12 | C7: 13.933333 | D7: 12 | E7: 17
A8: 41856 | B8: 12 | C8: 10 | D8: 12 | E8: 10
A9: 41857 | B9: 10 | C9: 9 | D9: 10 | E9: 9
A10: 41858 | B10: 5 | C10: 5 | D10: 5 | E10: 5
A11: 41859 | B11: 6 | C11: 12.866667 | D11: 6 | E11: 11
A12: 41860 | B12: 6 | C12: 15.453333 | D12: 6 | E12: 13
A13: 41861 | B13: 6 | C13: 15.453333 | D13: 6 | E13: 13
A14: 41862 | B14: 11 | C14: 19.898333 | D14: 9 | E14: 13
... A71: 41919 | B71: 3 | C71: 3.7966667 | D71: 2 | E71: 3
A72: 41920 | B72: 5 | C72: 6 | D72: 5 | E72: 4 | F72: =B72-C72 -> -1
A73: 41921 | B73: 12 | C73: 5 | D73: 12 | E73: 4 | F73: =B73-C73 -> 7
A74: 41922 | B74: 13 | C74: 5 | D74: 13 | E74: 4 | F74: =B74-C74 -> 8
A75: 41923 | B75: 5 | C75: 6 | D75: 5 | E75: 4 | F75: =B75-C75 -> -1
A76: 41924 | B76: 8 | C76: 6 | D76: 8 | E76: 4 | F76: =B76-C76 -> 2
A77: 41925 | B77: 10 | C77: 6 | D77: 10 | E77: 5 | F77: =B77-C77 -> 4
A78: 41926 | B78: 18 | C78: 6 | D78: 18 | E78: 5 | F78: =B78-C78 -> 12
A79: 41927 | B79: 15 | C79: 8 | D79: 15 | E79: 7 | F79: =B79-C79 -> 7
A80: 41928 | B80: 14 | C80: 7 | D80: 14 | E80: 5 | F80: =B80-C80 -> 7
A81: 41929 | B81: 16 | C81: 8 | D81: 16 | E81: 6 | F81: =B81-C81 -> 8
A82: 41930 | B82: 13 | C82: 13 | D82: 13 | E82: 10 | F82: =B82-C82 -> 0
A83: 41931 | B83: 8 | C83: 5 | D83: 8 | E83: 4 | F83: =B83-C83 -> 3
... A92: 41940 | B92: 14 | C92: 10 | D92: 14 | E92: 8 | F92: =B92-C92 -> 4
A93: =A92+1 -> 41941 | B93: 16 | C93: 5 | D93: 16 | E93: 4 | F93: =B93-C93 -> 11
A94: =A93+1 -> 41942 | B94: 12 | C94: 6 | D94: 12 | E94: 4 | F94: =B94-C94 -> 6
A95: =A94+1 -> 41943 | B95: 11 | C95: 8 | D95: 11 | E95: 6 | F95: =B95-C95 -> 3
A96: =A95+1 -> 41944 | B96: 14 | C96: 7 | D96: 14 | E96: 6 | F96: =B96-C96 -> 7
A97: =A96+1 -> 41945 | B97: 14 | C97: 15 | D97: 14 | E97: 12 | F97: =B97-C97 -> -1
A98: =A97+1 -> 41946 | B98: 14 | C98: 13 | D98: 14 | E98: 10 | F98: =B98-C98 -> 1
A99: =A98+1 -> 41947 | B99: 16 | C99: 4 | D99: 16 | E99: 3 | F99: =B99-C99 -> 12
