Workbook

Sheet Service Metrics (items 1-2)
A1: EP 724 - US RAIL SERVICE ISSUES - DATA COLLECTION
A3: Railroad: Union Pacific | B3: Year: 2015 | C3: Reporting Week: | D3: Date Week Began: | E3: =+E4-6 -> 42224
D4: Date Week Ended: | E4: 42230
A5: 1. System-Average Train Speed by Train Type for the Reporting Week (MPH)
A6: Intermodal | B6: 31.1 | C6: Methodology: | D6: AAR train speed measure. Calculated by dividing train-miles by total
A7: Grain unit | B7: 23.3 | D7: hours from origin to destination, less intermediate terminal time.
A8: Coal unit | B8: 26.2 | D8: Excludes the following train categories: yard, local, passenger,
A9: Automotive unit | B9: 25.3 | D9: foreign, and maintenance of way.
A10: Crude oil unit | B10: 23.1
A11: Ethanol unit | B11: 22.8
A12: Manifest | B12: 22.6
A13: All Other | B13: 19.4
A15: 2. Weekly Average Terminal Dwell Time Measured in Hours Excluding Cars on Run Through Trains
A17: System Average | B17: 28.6
A19: 2. Weekly Average Terminal Dwell Time Measured in Hours for 10 Largest Terminals In Terms Of Railcar Capacity
A20: 1 Chicago (Proviso), IL | B20: 34.6 | C20: Methodology: | D20: AAR terminal dwell measure. Average hours a car resides at the
A21: 2 Fort Worth, TX | B21: 28.7 | D21: specified terminal location. Begins with train arrival, customer
A22: 3 Houston (Englewood), TX | B22: 35.7 | D22: release, or interchange receipt. Ends with train departure, customer
A23: 4 Livonia, LA | B23: 32.3 | D23: placement (actual or constructive), interchange offering or delivery.
A24: 5 North Little Rock, AR | B24: 28.6 | D24: Excludes cars that move through a terminal on run-through trains.
A25: 6 North Platte East, NE | B25: 30.3 | D25: Also excludes stored cars, bad ordered cars, and maintenance of way
A26: 7 North Platte West, NE | B26: 33.8 | D26: cars.
A27: 8 Pine Bluff, AR | B27: 29.5
A28: 9 Roseville, CA | B28: 29.7
A29: 10 West Colton, CA | B29: 32

Sheet Service Metrics (items 3-6)
A1: EP 724 - US RAIL SERVICE ISSUES - DATA COLLECTION
A3: ='Service Metrics (items 1-2)'!A3 -> Railroad: Union Pacific | B3: ='Service Metrics (items 1-2)'!B3 -> Year: 2015 | C3: Reporting Week: | D3: Date Week Began: | E3: ='Service Metrics (items 1-2)'!E3 -> 42224
D4: Date Week Ended: | E4: ='Service Metrics (items 1-2)'!E4 -> 42230
A5: 3. Total Cars On Line by Car Type for the Reporting Week
A6: Box | B6: 22444 | C6: Methodology: | D6: AAR cars on line measure. Calculated by AAR using Railinc data. Average daily inventory of all freight cars in revenue fleet
A7: Covered hopper | B7: 103324 | D7: regardless of location or status. Includes cars located on shortline railroads, cars delivered to customer facilities and stored
A8: Gondola | B8: 11269 | D8: cars. Excludes maintenance of way cars. Articulated cars are counted as a single unit.
A9: Intermodal | B9: 14367
A10: Multilevel (automotive) | B10: 13568
A11: Open hopper | B11: 45283
A12: Tank | B12: 67630
A13: Other | B13: =14752+1 -> 14753
A14: Total | B14: =SUM(B6:B13) -> 292638
A16: 4. Weekly Average Dwell Time at Origin for Unit Train Shipments Measured in Hours
A17: Grain | B17: 16.8 | C17: Methodology: | D17: Measured at origin, from customer release to train departure. Release time is based on the last cut of five or more cars.
A18: Coal | B18: 4.7 | D18: Includes trains transporting both loaded and empty freight cars. Excludes trains received in interchange from another
A19: Automotive | B19: 16.9 | D19: railroad and intermodal trains. Union Pacific is implementing a process to report origin dwell time for automotive trains, but
A20: Crude Oil | B20: 10 | D20: we are unable to provide reliable information at this time.
A21: Ethanol | B21: 20.5
A22: All Other Unit Trains | B22: 12.7
A24: 5. Weekly Total Number of Trains Held Short of Destination or Scheduled Interchange for Longer than 6 Hours by Train Type and Cause
A25: Train Type | B25: Cause
B26: Crew | C26: Locomotive power | D26: Track maintenance | E26: Mechanical Issue | F26: Other | H26: Total
F27: Number | G27: Briefly Explain Cause
A28: Intermodal | B28: 1 | C28: 1 | D28: 1 | E28: 0 | F28: 3 | G28: Customer, Foreign Road, Incidents/Weather, Other | H28: =SUM(B28:F28) -> 6
A29: Grain unit | B29: 2 | C29: 2 | D29: 1 | E29: 0 | F29: 5 | H29: =SUM(B29:F29) -> 10
A30: Coal unit | B30: 3 | C30: 2 | D30: 2 | E30: 1 | F30: 11 | H30: =SUM(B30:F30) -> 19
A31: Automotive unit | B31: 0 | C31: 0 | D31: 2 | E31: 0 | F31: 4 | H31: =SUM(B31:F31) -> 6
A32: Crude oil unit | B32: 0 | C32: 2 | D32: 0 | E32: 0 | F32: 2 | H32: =SUM(B32:F32) -> 4
A33: Ethanol unit | B33: 1 | C33: 3 | D33: 1 | E33: 0 | F33: 1 | H33: =SUM(B33:F33) -> 6
A34: Other unit | B34: 1 | C34: 1 | D34: 0 | E34: 0 | F34: 14 | H34: =SUM(B34:F34) -> 16
A35: All other trains | B35: 1 | C35: 5 | D35: 3 | E35: 0 | F35: 20 | H35: =SUM(B35:F35) -> 29
A36: Total | B36: =SUM(B28:B35) -> 9 | C36: =SUM(C28:C35) -> 16 | D36: =SUM(D28:D35) -> 10 | E36: =SUM(E28:E35) -> 1 | F36: =SUM(F28:F35) -> 60 | H36: =SUM(H28:H35) -> 96
A38: Methodology: | B38: Cumulative weekly number, based on daily snapshots of active trains held for more than six consecutive hours. No train is counted more than once each week. Excludes
B39: yard and local trains.
A41: 6. Weekly Total Number of Loaded and Empty Cars in Revenue Service That Have Not Moved In: | F41: Methodology:
B42: Greater Than 120 Hours | D42: Greater Than 48 but Less than or Equal to 120 Hours
B43: Loaded | C43: Empty | D43: Loaded | E43: Empty
A44: Intermodal | B44: 63 | C44: 27 | D44: 511 | E44: 19
A45: Grain | B45: 25 | C45: 141 | D45: 598 | E45: 581
A46: Coal | B46: 90 | C46: 173 | D46: 222 | E46: 441
A47: Crude Oil | B47: 3 | C47: 17 | D47: 7 | E47: 152
A48: Ethanol | B48: 10 | C48: 59 | D48: 274 | E48: 300
A49: Automotive | B49: 70 | C49: 44 | D49: 1247 | E49: 695
A50: All Other | B50: 1532 | C50: 1927 | D50: 9966 | E50: 9393

Sheet Grain Metrics 1 (item 7)
A1: EP 724 - US RAIL SERVICE ISSUES - DATA COLLECTION
A3: ='Service Metrics (items 1-2)'!A3 -> Railroad: Union Pacific | B3: ='Service Metrics (items 1-2)'!B3 -> Year: 2015 | C3: Reporting Week: | D3: Date Week Began: | E3: ='Service Metrics (items 1-2)'!E3 -> 42224
D4: Date Week Ended: | E4: ='Service Metrics (items 1-2)'!E4 -> 42230
A6: 7. Weekly total grain cars loaded and billed, reported by State, aggregated for the following Standard Transportation Commodity Codes (STCCs): 01131 (barley), 01132 (corn), 01133 (oats), 01135 (rye), 01136 (sorghum grains), 01137 (wheat), 01139 (grain, not elsewhere classified), 01144 (soybeans), 01341 (beans, dry), 01342 (peas, dry), and 01343 (cowpeas, lentils, or lupines). “Total grain cars loaded and billed” includes cars in shuttle service; dedicated train service; reservation, lottery, open and other ordering systems; and, private cars. Additionally, please separately report the total cars loaded and billed in shuttle service (or dedicated train service) versus total cars loaded and billed in all other ordering systems, including private cars. Instruction: Please enter "0" if no data is being reported for a field.
A8: State | B8: Total Grain Cars Loaded and Billed For All Ordering Systems | C8: Total Grain Cars Loaded and Billed For Shuttle / Dedicated Train Service Ordering Systems | D8: Total Grain Cars Loaded and Billed For Ordering Systems Other Than Shuttle / Dedicated Train Service
A9: AZ | B9: =ROUND(IF(ISERROR(VLOOKUP($A9,'[1]Grain Metrics 1 (item 7)'!$A$3:$D$25,2,FALSE)),0,VLOOKUP($A9,'[1]Grain Metrics 1 (item 7)'!$A$3:$D$25,2,FALSE)),0) -> 70 | C9: =ROUND(IF(ISERROR(VLOOKUP($A9,'[1]Grain Metrics 1 (item 7)'!$A$3:$D$25,3,FALSE)),0,VLOOKUP($A9,'[1]Grain Metrics 1 (item 7)'!$A$3:$D$25,3,FALSE)),0) -> 0 | D9: =ROUND(IF(ISERROR(VLOOKUP($A9,'[1]Grain Metrics 1 (item 7)'!$A$3:$D$25,4,FALSE)),0,VLOOKUP($A9,'[1]Grain Metrics 1 (item 7)'!$A$3:$D$25,4,FALSE)),0) -> 70
A10: AR | B10: 0 | C10: 0 | D10: 0
A11: CA | B11: 50 | C11: 0 | D11: 50
A12: CO | B12: 385 | C12: 109 | D12: 276
A13: ID | B13: 726 | C13: 208 | D13: 518
A14: IL | B14: 263 | C14: 227 | D14: 36
A15: IA | B15: 1077 | C15: 1077 | D15: 0
A16: KS | B16: 733 | C16: 544 | D16: 189
A17: LA | B17: 1 | C17: 0 | D17: 1
A18: MN | B18: 1311 | C18: 985 | D18: 326
A19: MO | B19: 220 | C19: 218 | D19: 2
A20: MT | B20: 6 | C20: 0 | D20: 6
A21: NE | B21: 516 | C21: 323 | D21: 193
... A31: WY | B31: 3 | C31: 0 | D31: 3
A32: Total | B32: =SUM(B9:B31) -> 5465 | C32: =SUM(C9:C31) -> 3691 | D32: =SUM(D9:D31) -> 1774
A34: Methodology: | B34: Number of grain cars loaded and billed each week by state and type of train service. A carload is counted when the loaded car is released by UP's customer or
B35: received in interchange from another railroad. State is based on UP origin. Shuttle / dedicated train service includes cars moving on grain shuttle trains. Other than
B36: shuttle / dedicated train service includes all other cars moving on unit grain trains or manifest service.

Sheet Grain Metrics 2 (item 8)
A1: EP 724 - US RAIL SERVICE ISSUES - DATA COLLECTION
A3: ='Service Metrics (items 1-2)'!A3 -> Railroad: Union Pacific | B3: ='Service Metrics (items 1-2)'!B3 -> Year: 2015 | C3: Reporting Week: | D3: Date Week Began: | E3: ='Service Metrics (items 1-2)'!E3 -> 42224
D4: Date Week Ended: | E4: ='Service Metrics (items 1-2)'!E4 -> 42230
A6: 8. For the aggregated STCCs in item 7, report by State the following: a. running total number of outstanding car orders (a car order equals one car); b. average number of days late for all outstanding car orders; c. total number of new car orders received during the past week; d. total number of car orders filled during the past week; and e. number of orders cancelled, respectively, by shipper and railroad during the past week.
A8: State | B8: a. Running Total Number of Outstanding Car Orders | C8: b. Average Number of Days Late For All Outstanding Grain Car Orders | D8: c. Number of New Car Orders | E8: d. Number of Car Orders Filled | F8: e.1. Number of Orders Canceled By Shipper | G8: e.2. Number of Orders Canceled By Railroad
A9: AZ | B9: 12 | C9: 2 | D9: 0 | E9: 110 | F9: 0 | G9: 0
A10: AR | B10: 0 | C10: 0 | D10: 12 | E10: 12 | F10: 0 | G10: 0
A11: CA | B11: 0 | C11: 0 | D11: 0 | E11: 2 | F11: 0 | G11: 0
A12: CO | B12: 271 | C12: 2 | D12: 5 | E12: 32 | F12: 0 | G12: 0
A13: ID | B13: 248 | C13: 0 | D13: 81 | E13: 202 | F13: 0 | G13: 0
A14: IL | B14: 11 | C14: 0 | D14: 0 | E14: 60 | F14: 0 | G14: 0
A15: IA | B15: 0 | C15: 0 | D15: 0 | E15: 34 | F15: 0 | G15: 0
A16: KS | B16: 424 | C16: 0 | D16: 140 | E16: 77 | F16: 0 | G16: 0
A17: LA | B17: 0 | C17: 0 | D17: 0 | E17: 0 | F17: 0 | G17: 0
A18: MN | B18: 134 | C18: 1 | D18: 0 | E18: 43 | F18: 0 | G18: 0
A19: MO | B19: 59 | C19: 2 | D19: 50 | E19: 49 | F19: 0 | G19: 0
A20: MT | B20: 11 | C20: 0 | D20: 0 | E20: 13 | F20: 0 | G20: 0
... A31: WY | B31: 12 | C31: 2 | D31: 0 | E31: 5 | F31: 0 | G31: 0
A32: TOTAL | B32: =SUM(B9:B31) -> 2039 | C32: 0 | D32: =SUM(D9:D31) -> 717 | E32: =SUM(E9:E31) -> 852 | F32: =SUM(F9:F31) -> 0 | G32: =SUM(G9:G31) -> 0
A34: Methodology: | B34: Per the tariff, Union Pacific accepts grain orders for half-month periods. Outstanding orders include unfilled guaranteed orders from prior half-month periods plus all unfilled guaranteed orders
B35: for the current half. Average number of days late for outstanding orders: For any outstanding orders from prior half-month periods, we calculate the number of days past the end of the half that
B36: the cars were ordered for. New car orders are requests received during the reporting period for the next half-month period and beyond. Car orders filled are the number of empty cars delivered
B37: to customers for loading during the reporting period. For offline customers, orders are filled when cars are delivered or offered in interchange to the connecting carrier. The data in columns a
B38: and b is calculated from a snapshot of outstanding car orders taken every Monday. The data in columns c, d, and e is based on a reporting period that spans Sunday through Saturday. This
B39: metric excludes cars in UP's shuttle train program because those cars are controlled by the shuttle operator.

Sheet Grain & Coal Plans (items 9-10)
A1: EP 724 - US RAIL SERVICE ISSUES - DATA COLLECTION
A3: ='Service Metrics (items 1-2)'!A3 -> Railroad: Union Pacific | B3: ='Service Metrics (items 1-2)'!B3 -> Year: 2015 | C3: Reporting Week: | D3: Date Week Began: | E3: ='Service Metrics (items 1-2)'!E3 -> 42224
D4: Date Week Ended: | E4: ='Service Metrics (items 1-2)'!E4 -> 42230
A6: 9. Plan vs. Performance For Grain Shuttle (Or Dedicated Grain Train) Round Trips, By Region, Updated To Reflect The Previous Four Weeks
A7: Region (Please Specify Destination Region) | B7: Trip Performance Previous Four Weeks
A8: AR/TX | B8: 4.1
A9: CA/AZ | B9: 2.8
A10: Gulf | B10: 2.9
A11: Mexico | B11: 2
A12: PNW | B12: 8.5
A13: Other Domestic | B13: 4.4
A15: Methodology: | B15: Average trips per shuttle set per month = 720 hours per month / (Average loaded cycle hours + Average empty cycle hours).
B16: A loaded cycle is measured from loaded release to empty release. An empty cycle is measured from empty release to
B17: loaded release. The average cycle times are calculated for all cycles that closed during the 4-week reporting period.
B18: Union Pacific currently has two shuttle sets dedicated to a routine inspection and preventative maintenance program. That
B19: shop time is included in our measure.
A22: 10. Average Daily Coal Unit Train Loadings vs. Plan for the Reporting Week By Coal Production Region
A23: Region | B23: Loadings Average Current Week
A24: Powder River Basin | B24: 25.1
A25: Illinois Basin | B25: 0.2
A26: Uinta Basin | B26: 5.4
A28: Methodology: | B28: Average daily count of loaded coal trains released by the mines.
